BEGIN:VCALENDAR
VERSION:2.0
PRODID:-//Rock Hill Business &amp; Community Association - ECPv6.15.20//NONSGML v1.0//EN
CALSCALE:GREGORIAN
METHOD:PUBLISH
X-WR-CALNAME:Rock Hill Business &amp; Community Association
X-ORIGINAL-URL:https://rockhillny.org
X-WR-CALDESC:Events for Rock Hill Business &amp; Community Association
REFRESH-INTERVAL;VALUE=DURATION:PT1H
X-Robots-Tag:noindex
X-PUBLISHED-TTL:PT1H
BEGIN:VTIMEZONE
TZID:America/New_York
BEGIN:DAYLIGHT
TZOFFSETFROM:-0500
TZOFFSETTO:-0400
TZNAME:EDT
DTSTART:20150308T070000
END:DAYLIGHT
BEGIN:STANDARD
TZOFFSETFROM:-0400
TZOFFSETTO:-0500
TZNAME:EST
DTSTART:20151101T060000
END:STANDARD
BEGIN:DAYLIGHT
TZOFFSETFROM:-0500
TZOFFSETTO:-0400
TZNAME:EDT
DTSTART:20160313T070000
END:DAYLIGHT
BEGIN:STANDARD
TZOFFSETFROM:-0400
TZOFFSETTO:-0500
TZNAME:EST
DTSTART:20161106T060000
END:STANDARD
BEGIN:DAYLIGHT
TZOFFSETFROM:-0500
TZOFFSETTO:-0400
TZNAME:EDT
DTSTART:20170312T070000
END:DAYLIGHT
BEGIN:STANDARD
TZOFFSETFROM:-0400
TZOFFSETTO:-0500
TZNAME:EST
DTSTART:20171105T060000
END:STANDARD
END:VTIMEZONE
BEGIN:VEVENT
DTSTART;TZID=America/New_York:20160602T190000
DTEND;TZID=America/New_York:20160602T200000
DTSTAMP:20260423T143432
CREATED:20160525T000455Z
LAST-MODIFIED:20160525T000455Z
UID:2585-1464894000-1464897600@rockhillny.org
SUMMARY:RH Outdoor Group Kick Off Meeting!
DESCRIPTION:Join the Rock Hill Business and Community Association for our first meeting of the Rock Hill Outdoor Group! We will discuss different hikes and other outdoor recreational events we would like to create\, along with different marketing ideas to promote out outdoors. All volunteers are welcome! We are looking for a committee chair\, or co-chairs to help organize this group. Email rhbca12775@gmail.com with any questions. We will meet at Brew\, located at 280 Rock Hill Drive.
URL:https://rockhillny.org/event/rh-outdoor-group-kick-off-meeting/
LOCATION:Brew\, 280 Rock Hill Drive\, Rock Hill\, 12775\, United States
CATEGORIES:Outdoors,Volunteer
ATTACH;FMTTYPE=image/jpeg:https://rockhillny.org/wp-content/uploads/neversink-river.jpg
END:VEVENT
BEGIN:VEVENT
DTSTART;TZID=America/New_York:20160601T173000
DTEND;TZID=America/New_York:20160601T193000
DTSTAMP:20260423T143432
CREATED:20160524T235928Z
LAST-MODIFIED:20160525T001838Z
UID:2584-1464802200-1464809400@rockhillny.org
SUMMARY:Rock Hill's Annual Flower Planting Day
DESCRIPTION:Join us for our annual flower planting day! Every year we fill the flower boxes at the farmers market and along rock hill drive with beautiful flowers\, but we need volunteers to help plant! Bring your gloves and gardening tools. No experience necessary.
URL:https://rockhillny.org/event/rock-hills-annual-flower-planting-day/
LOCATION:Farmers Market Park\, 223 Rock Hill Drive\, Rock Hill\, 12775\, United States
CATEGORIES:Volunteer
ATTACH;FMTTYPE=image/jpeg:https://rockhillny.org/wp-content/uploads/RH-sign-web-version.jpg
END:VEVENT
END:VCALENDAR