BEGIN:VCALENDAR
VERSION:2.0
PRODID:-//Rock Hill Business &amp; Community Association - ECPv6.15.20//NONSGML v1.0//EN
CALSCALE:GREGORIAN
METHOD:PUBLISH
X-WR-CALNAME:Rock Hill Business &amp; Community Association
X-ORIGINAL-URL:https://rockhillny.org
X-WR-CALDESC:Events for Rock Hill Business &amp; Community Association
REFRESH-INTERVAL;VALUE=DURATION:PT1H
X-Robots-Tag:noindex
X-PUBLISHED-TTL:PT1H
BEGIN:VTIMEZONE
TZID:America/New_York
BEGIN:DAYLIGHT
TZOFFSETFROM:-0500
TZOFFSETTO:-0400
TZNAME:EDT
DTSTART:20150308T070000
END:DAYLIGHT
BEGIN:STANDARD
TZOFFSETFROM:-0400
TZOFFSETTO:-0500
TZNAME:EST
DTSTART:20151101T060000
END:STANDARD
BEGIN:DAYLIGHT
TZOFFSETFROM:-0500
TZOFFSETTO:-0400
TZNAME:EDT
DTSTART:20160313T070000
END:DAYLIGHT
BEGIN:STANDARD
TZOFFSETFROM:-0400
TZOFFSETTO:-0500
TZNAME:EST
DTSTART:20161106T060000
END:STANDARD
BEGIN:DAYLIGHT
TZOFFSETFROM:-0500
TZOFFSETTO:-0400
TZNAME:EDT
DTSTART:20170312T070000
END:DAYLIGHT
BEGIN:STANDARD
TZOFFSETFROM:-0400
TZOFFSETTO:-0500
TZNAME:EST
DTSTART:20171105T060000
END:STANDARD
END:VTIMEZONE
BEGIN:VEVENT
DTSTART;TZID=America/New_York:20160712T180000
DTEND;TZID=America/New_York:20160712T210000
DTSTAMP:20260423T143410
CREATED:20160706T212918Z
LAST-MODIFIED:20160706T212918Z
UID:2706-1468346400-1468357200@rockhillny.org
SUMMARY:Sullivan  County SPCA Night at The Brew
DESCRIPTION:Come join your friends and neighbors at The Brew\, 280 Rock Hill Dr.\, Rock Hill\, for an evening of good food and music at a fundraiser for the SC SPCA in Rock Hill.  Music by Joanna Gass on vocals with the  “Search and Rescue Orchestra”  Tuesday\, July 12th from 6pm-9pm.  20% of all food checks will go to support the SPCA.  Shelter Manager Debbie Dittert will be guest bartending and all of her tips will also go to support the shelter.
URL:https://rockhillny.org/event/sullivan-county-spca-night-at-the-brew/
LOCATION:The Brew\, 280 Rock Hill Dr.\, Rock Hill\, NY
CATEGORIES:Fundraiser
END:VEVENT
BEGIN:VEVENT
DTSTART;TZID=America/New_York:20160531T170000
DTEND;TZID=America/New_York:20160531T210000
DTSTAMP:20260423T143410
CREATED:20160529T130153Z
LAST-MODIFIED:20160529T130153Z
UID:2659-1464714000-1464728400@rockhillny.org
SUMMARY:Rock Hill Community Night at Brew!
DESCRIPTION:Check out the new Brew and support the Rock Hill Business and Community Association. Come to Brew on Tuesday May 31st 5PM or later for Rock Hill night. Krissy Walsh and Melinda Meddaugh will be guest bartending and donating all of their tip money. 10% of all food checks will go to support the Rock Hill Business and Community Association.
URL:https://rockhillny.org/event/rock-hill-community-night-at-brew/
LOCATION:Brew\, 280 Rock Hill Drive\, Rock Hill\, 12775\, United States
CATEGORIES:Community Event,Fundraiser
ATTACH;FMTTYPE=image/png:https://rockhillny.org/wp-content/uploads/RHBCA_Logo.png
END:VEVENT
END:VCALENDAR