BEGIN:VCALENDAR
VERSION:2.0
PRODID:-//Rock Hill Business &amp; Community Association - ECPv6.15.20//NONSGML v1.0//EN
CALSCALE:GREGORIAN
METHOD:PUBLISH
X-WR-CALNAME:Rock Hill Business &amp; Community Association
X-ORIGINAL-URL:https://rockhillny.org
X-WR-CALDESC:Events for Rock Hill Business &amp; Community Association
REFRESH-INTERVAL;VALUE=DURATION:PT1H
X-Robots-Tag:noindex
X-PUBLISHED-TTL:PT1H
BEGIN:VTIMEZONE
TZID:America/New_York
BEGIN:DAYLIGHT
TZOFFSETFROM:-0500
TZOFFSETTO:-0400
TZNAME:EDT
DTSTART:20150308T070000
END:DAYLIGHT
BEGIN:STANDARD
TZOFFSETFROM:-0400
TZOFFSETTO:-0500
TZNAME:EST
DTSTART:20151101T060000
END:STANDARD
BEGIN:DAYLIGHT
TZOFFSETFROM:-0500
TZOFFSETTO:-0400
TZNAME:EDT
DTSTART:20160313T070000
END:DAYLIGHT
BEGIN:STANDARD
TZOFFSETFROM:-0400
TZOFFSETTO:-0500
TZNAME:EST
DTSTART:20161106T060000
END:STANDARD
BEGIN:DAYLIGHT
TZOFFSETFROM:-0500
TZOFFSETTO:-0400
TZNAME:EDT
DTSTART:20170312T070000
END:DAYLIGHT
BEGIN:STANDARD
TZOFFSETFROM:-0400
TZOFFSETTO:-0500
TZNAME:EST
DTSTART:20171105T060000
END:STANDARD
BEGIN:DAYLIGHT
TZOFFSETFROM:-0500
TZOFFSETTO:-0400
TZNAME:EDT
DTSTART:20180311T070000
END:DAYLIGHT
BEGIN:STANDARD
TZOFFSETFROM:-0400
TZOFFSETTO:-0500
TZNAME:EST
DTSTART:20181104T060000
END:STANDARD
BEGIN:DAYLIGHT
TZOFFSETFROM:-0500
TZOFFSETTO:-0400
TZNAME:EDT
DTSTART:20190310T070000
END:DAYLIGHT
BEGIN:STANDARD
TZOFFSETFROM:-0400
TZOFFSETTO:-0500
TZNAME:EST
DTSTART:20191103T060000
END:STANDARD
BEGIN:DAYLIGHT
TZOFFSETFROM:-0500
TZOFFSETTO:-0400
TZNAME:EDT
DTSTART:20200308T070000
END:DAYLIGHT
BEGIN:STANDARD
TZOFFSETFROM:-0400
TZOFFSETTO:-0500
TZNAME:EST
DTSTART:20201101T060000
END:STANDARD
BEGIN:DAYLIGHT
TZOFFSETFROM:-0500
TZOFFSETTO:-0400
TZNAME:EDT
DTSTART:20210314T070000
END:DAYLIGHT
BEGIN:STANDARD
TZOFFSETFROM:-0400
TZOFFSETTO:-0500
TZNAME:EST
DTSTART:20211107T060000
END:STANDARD
END:VTIMEZONE
BEGIN:VEVENT
DTSTART;TZID=America/New_York:20201219T140000
DTEND;TZID=America/New_York:20201219T160000
DTSTAMP:20260423T125708
CREATED:20201206T214637Z
LAST-MODIFIED:20201206T214637Z
UID:3773-1608386400-1608393600@rockhillny.org
SUMMARY:Santa Clause is Coming to Town!!
DESCRIPTION:Due to COVID-19 restrictions the RHFD will not be able to host our annual children’s Christmas Party this year. However in an effort to spread some holiday joy\, we will be bringing Santa and Mrs. Claus around the district for all the children to see.\nThe parade will start at the RHFD at 2:00pm on Saturday\, December 19th. Please watch this event and our facebook page for route information.\nWe look forward to seeing you all!
URL:https://rockhillny.org/event/santa-clause-is-coming-to-town/
CATEGORIES:Fire Dept.
ATTACH;FMTTYPE=image/png:https://rockhillny.org/wp-content/uploads/Screen-Shot-2020-12-05-at-7.36.28-PM.png
END:VEVENT
BEGIN:VEVENT
DTSTART;TZID=America/New_York:20180211T070000
DTEND;TZID=America/New_York:20180211T120000
DTSTAMP:20260423T125708
CREATED:20180109T043632Z
LAST-MODIFIED:20180109T043632Z
UID:3155-1518332400-1518350400@rockhillny.org
SUMMARY:Rock Hill Fire Department Pancake Breakfast
DESCRIPTION:Rock Hill Fire Department’s Annual Pancake Breakfast. Serving local maple syrup. Adults $8.00/Under 12 $6.00/Under 5 FREE
URL:https://rockhillny.org/event/rock-hill-fire-department-pancake-breakfast/
LOCATION:Rock Hill Fire Department\, 61 Glen Wild Road\, Rock Hill \, 12775\, United States
CATEGORIES:Community Event,Fire Dept.
ATTACH;FMTTYPE=image/jpeg:https://rockhillny.org/wp-content/uploads/26114744_10212620426080186_7837761227370940001_o.jpg
END:VEVENT
BEGIN:VEVENT
DTSTART;TZID=America/New_York:20170423T070000
DTEND;TZID=America/New_York:20170423T140000
DTSTAMP:20260423T125708
CREATED:20170124T014954Z
LAST-MODIFIED:20170411T115843Z
UID:2788-1492930800-1492956000@rockhillny.org
SUMMARY:Ride the Rock Bike Tour
DESCRIPTION:Wipe those cobwebs off your bike and enjoy a Scenic Ride of Rock Hill! \n\n\n \n\n\nJoin the Rock Hill Fire Department and the Rock Hill Pharmacy for the 1st annual Ride the Rock Bike Ride” on April 23rd. There is a ride for everyone. There is a 10 mile ride and a 30 mile more strenuous ride. Registration begins at 7am at the Rock Hill Firehouse. Take off anytime during 7am – 11am. Refreshments and lunch served at the firehouse after the ride. Register early and get a t-shirt.\n\n\n \n\n\nTo register click on the link below. Pre-registration is $35. Day of $40. Kids under 12 free.\nhttps://www.eventbrite.com/e/ride-the-rock-tickets-31080694193?utm-medium=discovery&utm-campaign=social&utm-content=attendeeshare&aff=esfb&utm-source=fb&utm-term=listing\n\n\n \n\n\nTo download the brochure or the check out the bike ride map\, check out www.rockhillfiredept.com\n\n\n \n\n\nAll proceeds benefit the Rock Hill Fire Department and the Alyson Whitney Foundation. The bike ride is hosted by the Rock Hill Fire Department and sponsored by the Rock Hill Pharmacy.\n\n\n \n\n\n10 mile ride Route\n\n\nStart at firehouse 61 glenwild road\n\n\nLeft onto glenwild\n\n\nright on to adams\n\n\nright on to bowers\n\n\nleft on to wanasink lake\n\n\nleft on to wild tpk–rest stop at YMCA\n\n\nleft on to e glen wild\n\n\nleft on to bowers\n\n\nright on to adams\n\n\nleft on to glen wild\n\n\nreturn to firehouse\n\n\n \n\n\n30 mile ride Route\n\n\nStart at firehouse\n\n\nright on glen wild\n\n\nL-Rock hill drive\n\n\nR-katrina falls\n\n\nR lake shore drive w\n\n\nL-wolf lake road\n\n\ngo all the way around wolf lake\n\n\nexit onto wolf lake road\n\n\nR on to Katrina falls–rest stop at fireman camps\n\n\nR-Old sacket\n\n\nL-North emerald\n\n\nR-lake louise marie rd\n\n\nL-underpass\n\n\nR-wurtsboro mountain road\n\n\nL-wild TPK\n\n\nrest stop at YMCA\n\n\nleft on to e glen wild\n\n\nleft on to bowers\n\n\nright on to adams\n\n\nleft on to glen wild\n\n\nreturn to firehouse\n\n  \nTo SPONSOR the event click here.
URL:https://rockhillny.org/event/ride-the-rock-bike-tour/
LOCATION:Rock Hill Fire Department\, 61 Glen Wild Road\, Rock Hill \, 12775\, United States
CATEGORIES:Community Event,Fire Dept.
ATTACH;FMTTYPE=image/jpeg:https://rockhillny.org/wp-content/uploads/ride-the-rock3.jpg
END:VEVENT
BEGIN:VEVENT
DTSTART;TZID=America/New_York:20170311T140000
DTEND;TZID=America/New_York:20170311T180000
DTSTAMP:20260423T125708
CREATED:20161110T121312Z
LAST-MODIFIED:20170124T025038Z
UID:2748-1489240800-1489255200@rockhillny.org
SUMMARY:Rock Hill St. Patrick's Day Parade
DESCRIPTION:Join the Rock Hill Business and Community Association and the Rock Hill Fire Department for our annual parade! There will be lots of local marchers\, fire departments\, police departments\, marching bands\, bagpipes\, antique cars and more! Once again\, the Walker Valley Marching Band and the Firefighter McPadden Pipes and Drums of the Goshen Emerald Society will march in the parade. Line up begins at 12:30pm. Step off is at 2PM. The parade starts at The Sullivan\, located at 283 Rock Hill Drive\, and ends at Rock Hill Service Center\, located at 9 Glen Wild Road. \nTo participate in the parade download the registration form. \n2017 parade registration form \nA list of sponsors coming soon!
URL:https://rockhillny.org/event/rock-hill-st-patricks-day-parade/
LOCATION:The Sullivan Events Center\, 283 Rock Hill Drive\, Rock Hill\, 12775
CATEGORIES:Community Event,Fire Dept.
ATTACH;FMTTYPE=image/jpeg:https://rockhillny.org/wp-content/uploads/10013809_274477889385355_1569663549_n-1.jpg
END:VEVENT
BEGIN:VEVENT
DTSTART;VALUE=DATE:20161119
DTEND;VALUE=DATE:20161122
DTSTAMP:20260423T125708
CREATED:20160325T003732Z
LAST-MODIFIED:20160520T204221Z
UID:1929-1479513600-1479772799@rockhillny.org
SUMMARY:Ladies Auxiliary Penny Social
DESCRIPTION:More info to come!
URL:https://rockhillny.org/event/ladies-auxiliary-penny-social/
LOCATION:Rock Hill Fire Department\, 61 Glen Wild Road\, Rock Hill \, 12775\, United States
CATEGORIES:Fire Dept.,FREE
END:VEVENT
BEGIN:VEVENT
DTSTART;TZID=America/New_York:20160918T080000
DTEND;TZID=America/New_York:20160918T190000
DTSTAMP:20260423T125708
CREATED:20160325T005507Z
LAST-MODIFIED:20160505T011355Z
UID:1936-1474185600-1474225200@rockhillny.org
SUMMARY:18th Annual RHFD Golf Outing
DESCRIPTION:The Rock Hill Volunteer Fire Department sponsors this great event to raise funds — and to have some fun outdoors. Join us! \nMore details to come soon.
URL:https://rockhillny.org/event/17th-annual-golf-outing/
CATEGORIES:Fire Dept.
END:VEVENT
BEGIN:VEVENT
DTSTART;TZID=America/New_York:20160717T070000
DTEND;TZID=America/New_York:20160717T120000
DTSTAMP:20260423T125708
CREATED:20160325T004745Z
LAST-MODIFIED:20160630T123900Z
UID:1933-1468738800-1468756800@rockhillny.org
SUMMARY:French Toast Breakfast
DESCRIPTION:All you can eat breakfast serving french toast\, pancakes \, waffles\, hash browns\, sausage\, scrambled eggs\, western scrambled eggs\, orange juice\, coffee\, tea and hot chocolate\, buffet style.
URL:https://rockhillny.org/event/waffle-breakfast/
LOCATION:Rock Hill Fire Department\, 61 Glen Wild Road\, Rock Hill \, 12775\, United States
CATEGORIES:Community Event,Fire Dept.
ATTACH;FMTTYPE=image/jpeg:https://rockhillny.org/wp-content/uploads/waffle-1.jpg
END:VEVENT
BEGIN:VEVENT
DTSTART;TZID=America/New_York:20160625T100000
DTEND;TZID=America/New_York:20160625T130000
DTSTAMP:20260423T125708
CREATED:20160524T231647Z
LAST-MODIFIED:20160524T235057Z
UID:2569-1466848800-1466859600@rockhillny.org
SUMMARY:RH Farmers Market: Fire Safety for Kids
DESCRIPTION:Join RHFM and the Rock Hill Fire Department for our First Fire Safety for Kids at the Rock Hill Farmers Market\, from 11am – 1pm. More info to come. There will also be live music under the gazebo. \n  \n2016 Vendors: \nAaron Burr Cidery (selling hard cider)\nBeaver Dam Brook Farm (selling a variety of vegetables)\nClean Karma (selling homemade\, all natural skin care products)\nDiehl Homestead Farm (selling local milk\, eggs and maple products)\nEminence Farm Winery (selling local wine)\nGlen Wild Farm (selling mushrooms)\nHoney Bee Herbs (selling herbs and skin care products)\nKilgore Artistry (selling handmade artwork)\nMajestic Farm (selling chicken\, pork & eggs)\nM & S Farm (selling goat cheese and eggs)\nPure Mountain Honey (selling local\, raw honey products)\nThe Bake House (selling homemade baked goods)\nTrapani Farm (selling a variety of fruit)\nSomewhere In Time Farm (selling cut flowers and vegetables)\nWinterton Farms (selling a variety of vegetables and maple syrup)
URL:https://rockhillny.org/event/rh-farmers-market-fire-safety-for-kids/
LOCATION:Farmers Market Park\, 223 Rock Hill Drive\, Rock Hill\, 12775\, United States
CATEGORIES:Farmers Market,Fire Dept.,FREE,Music
ATTACH;FMTTYPE=image/png:https://rockhillny.org/wp-content/uploads/RockHill_FM_logo_colorSM.png
END:VEVENT
BEGIN:VEVENT
DTSTART;TZID=America/New_York:20160618T090000
DTEND;TZID=America/New_York:20160618T120000
DTSTAMP:20260423T125708
CREATED:20160325T003325Z
LAST-MODIFIED:20160505T013157Z
UID:1927-1466240400-1466251200@rockhillny.org
SUMMARY:Rock Hill Run & Ramble
DESCRIPTION:The R4 is one of the largest footraces in the Hudson Valley\, and has raised over $1\,000\,000 to date. The R4 benefits the Leukemia & Lymphoma Society and the Trevor Loughlin Foundation. The R4 is held in memory of Walter A. Rhulen\, a dedicated runner and local humanitarian. The event benefits the Leukemia & Lymphoma Society\, the Trevor Loughlin Foundation\, and other local charities and beneficiaries. We hope you can join us! Run\, ramble\, sponsor\, register to become a bone marrow donor\, visit the health fair\, buy raffles\, eat great food\, and listen to live music.
URL:https://rockhillny.org/event/blood-drive/
LOCATION:Frontier Insurance Building\, 195 Lake Louise Marie Road\, Rock Hill\, 12775\, United States
CATEGORIES:Fire Dept.
ATTACH;FMTTYPE=image/jpeg:https://rockhillny.org/wp-content/uploads/race2.jpg
END:VEVENT
END:VCALENDAR