BEGIN:VCALENDAR
VERSION:2.0
PRODID:-//Rock Hill Business &amp; Community Association - ECPv6.15.20//NONSGML v1.0//EN
CALSCALE:GREGORIAN
METHOD:PUBLISH
X-WR-CALNAME:Rock Hill Business &amp; Community Association
X-ORIGINAL-URL:https://rockhillny.org
X-WR-CALDESC:Events for Rock Hill Business &amp; Community Association
REFRESH-INTERVAL;VALUE=DURATION:PT1H
X-Robots-Tag:noindex
X-PUBLISHED-TTL:PT1H
BEGIN:VTIMEZONE
TZID:America/New_York
BEGIN:DAYLIGHT
TZOFFSETFROM:-0500
TZOFFSETTO:-0400
TZNAME:EDT
DTSTART:20150308T070000
END:DAYLIGHT
BEGIN:STANDARD
TZOFFSETFROM:-0400
TZOFFSETTO:-0500
TZNAME:EST
DTSTART:20151101T060000
END:STANDARD
BEGIN:DAYLIGHT
TZOFFSETFROM:-0500
TZOFFSETTO:-0400
TZNAME:EDT
DTSTART:20160313T070000
END:DAYLIGHT
BEGIN:STANDARD
TZOFFSETFROM:-0400
TZOFFSETTO:-0500
TZNAME:EST
DTSTART:20161106T060000
END:STANDARD
BEGIN:DAYLIGHT
TZOFFSETFROM:-0500
TZOFFSETTO:-0400
TZNAME:EDT
DTSTART:20170312T070000
END:DAYLIGHT
BEGIN:STANDARD
TZOFFSETFROM:-0400
TZOFFSETTO:-0500
TZNAME:EST
DTSTART:20171105T060000
END:STANDARD
END:VTIMEZONE
BEGIN:VEVENT
DTSTART;TZID=America/New_York:20160727T183000
DTEND;TZID=America/New_York:20160727T203000
DTSTAMP:20260423T222610
CREATED:20160505T015454Z
LAST-MODIFIED:20160712T021839Z
UID:2479-1469644200-1469651400@rockhillny.org
SUMMARY:Week 4: Summer Concert Series w/ Somerville
DESCRIPTION:Join us for live music under the stars every Wednesday evening during July and August! Bring a blanket and a picnic basket and join us for LIVE music at the Farmers’ Market park! \nConcerts located at 223 Rock Hill Drive\, Farmers’ Market Park. In case of rain\, concerts are moved to the RH Fire Department\, 61 Glen Wild Rd. \nWeek 4 is sponsored by the Rock Hill Volunteer Ambulance Corps. and Iroquois Springs.
URL:https://rockhillny.org/event/week-4-summer-concert-series-w-somerville/
LOCATION:Farmers Market Park\, 223 Rock Hill Drive\, Rock Hill\, 12775\, United States
CATEGORIES:Concert Series
ATTACH;FMTTYPE=image/png:https://rockhillny.org/wp-content/uploads/concert-series-image.png
END:VEVENT
BEGIN:VEVENT
DTSTART;TZID=America/New_York:20160720T183000
DTEND;TZID=America/New_York:20160720T203000
DTSTAMP:20260423T222610
CREATED:20160505T015257Z
LAST-MODIFIED:20160712T021725Z
UID:2478-1469039400-1469046600@rockhillny.org
SUMMARY:Week 3: Summer Concert Series w/ The AM Band
DESCRIPTION:Join us for live music under the stars every Wednesday evening during July and August! Bring a blanket and a picnic basket and join us for LIVE music at the Farmers’ Market park! \nConcerts located at 223 Rock Hill Drive\, Farmers’ Market Park. In case of rain\, concerts are moved to the RH Fire Department\, 61 Glen Wild Rd. \nWeek 3 is sponsored by Danny’s Restaurant and VEO Energy Systems.
URL:https://rockhillny.org/event/week-3-summer-concert-series-w-the-am-band/
LOCATION:Farmers Market Park\, 223 Rock Hill Drive\, Rock Hill\, 12775\, United States
CATEGORIES:Concert Series
ATTACH;FMTTYPE=image/png:https://rockhillny.org/wp-content/uploads/concert-series-image.png
END:VEVENT
BEGIN:VEVENT
DTSTART;TZID=America/New_York:20160713T063000
DTEND;TZID=America/New_York:20160713T203000
DTSTAMP:20260423T222610
CREATED:20160505T014905Z
LAST-MODIFIED:20160712T021609Z
UID:2476-1468391400-1468441800@rockhillny.org
SUMMARY:Week 2: Summer Concert Series w/ The Robert Kopec Group
DESCRIPTION:Join us for live music under the stars every Wednesday evening during July and August! Bring a blanket and a picnic basket and join us for LIVE music at the Farmers’ Market park! \nConcerts located at 223 Rock Hill Drive\, Farmers’ Market Park. In case of rain\, concerts are moved to the RH Fire Department\, 61 Glen Wild Rd. \nWeek 2 is sponsored by the Rock Hill Trading Post and Joe Henle\, Realtor at Keller Williams Realty.
URL:https://rockhillny.org/event/week-2-summer-concert-series-w-the-robert-kopec-group/
LOCATION:Farmers Market Park\, 223 Rock Hill Drive\, Rock Hill\, 12775\, United States
CATEGORIES:Concert Series
ATTACH;FMTTYPE=image/png:https://rockhillny.org/wp-content/uploads/concert-series-image.png
END:VEVENT
BEGIN:VEVENT
DTSTART;TZID=America/New_York:20160706T183000
DTEND;TZID=America/New_York:20160706T203000
DTSTAMP:20260423T222610
CREATED:20160325T005225Z
LAST-MODIFIED:20160505T020332Z
UID:1935-1467829800-1467837000@rockhillny.org
SUMMARY:Week 1: Summer Concert Series w/ The Rock Hill Ramblers!
DESCRIPTION:Join us for live music under the stars every Wednesday evening during July and August! Bring a blanket and a picnic basket and join us for LIVE music at the Farmers’ Market park! \nConcerts located at 223 Rock Hill Drive\, Farmers’ Market Park. In case of rain\, concerts are moved to the RH Fire Department\, 61 Glen Wild Rd.
URL:https://rockhillny.org/event/penny-social/
LOCATION:Farmers Market Park\, 223 Rock Hill Drive\, Rock Hill\, 12775\, United States
CATEGORIES:Concert Series
ATTACH;FMTTYPE=image/png:https://rockhillny.org/wp-content/uploads/concert-series-image.png
END:VEVENT
END:VCALENDAR