BEGIN:VCALENDAR
VERSION:2.0
PRODID:-//Rock Hill Business &amp; Community Association - ECPv6.15.20//NONSGML v1.0//EN
CALSCALE:GREGORIAN
METHOD:PUBLISH
X-WR-CALNAME:Rock Hill Business &amp; Community Association
X-ORIGINAL-URL:https://rockhillny.org
X-WR-CALDESC:Events for Rock Hill Business &amp; Community Association
REFRESH-INTERVAL;VALUE=DURATION:PT1H
X-Robots-Tag:noindex
X-PUBLISHED-TTL:PT1H
BEGIN:VTIMEZONE
TZID:America/New_York
BEGIN:DAYLIGHT
TZOFFSETFROM:-0500
TZOFFSETTO:-0400
TZNAME:EDT
DTSTART:20150308T070000
END:DAYLIGHT
BEGIN:STANDARD
TZOFFSETFROM:-0400
TZOFFSETTO:-0500
TZNAME:EST
DTSTART:20151101T060000
END:STANDARD
BEGIN:DAYLIGHT
TZOFFSETFROM:-0500
TZOFFSETTO:-0400
TZNAME:EDT
DTSTART:20160313T070000
END:DAYLIGHT
BEGIN:STANDARD
TZOFFSETFROM:-0400
TZOFFSETTO:-0500
TZNAME:EST
DTSTART:20161106T060000
END:STANDARD
BEGIN:DAYLIGHT
TZOFFSETFROM:-0500
TZOFFSETTO:-0400
TZNAME:EDT
DTSTART:20170312T070000
END:DAYLIGHT
BEGIN:STANDARD
TZOFFSETFROM:-0400
TZOFFSETTO:-0500
TZNAME:EST
DTSTART:20171105T060000
END:STANDARD
BEGIN:DAYLIGHT
TZOFFSETFROM:-0500
TZOFFSETTO:-0400
TZNAME:EDT
DTSTART:20180311T070000
END:DAYLIGHT
BEGIN:STANDARD
TZOFFSETFROM:-0400
TZOFFSETTO:-0500
TZNAME:EST
DTSTART:20181104T060000
END:STANDARD
BEGIN:DAYLIGHT
TZOFFSETFROM:-0500
TZOFFSETTO:-0400
TZNAME:EDT
DTSTART:20190310T070000
END:DAYLIGHT
BEGIN:STANDARD
TZOFFSETFROM:-0400
TZOFFSETTO:-0500
TZNAME:EST
DTSTART:20191103T060000
END:STANDARD
END:VTIMEZONE
BEGIN:VEVENT
DTSTART;TZID=America/New_York:20180801T183000
DTEND;TZID=America/New_York:20180801T203000
DTSTAMP:20260423T163459
CREATED:20180504T025929Z
LAST-MODIFIED:20180504T025929Z
UID:3284-1533148200-1533155400@rockhillny.org
SUMMARY:Rock Hill Summer Concert Series: Third Degree
DESCRIPTION:Rock Hill Summer Concert Series Week 5: Third Degree\nwith roots in Sullivan County and Orange County\, this trio plays a great mix of classic rock and popular tunes.\nFREE Live Music every Wednesday in July + August. \nConcerts are located at 223 Rock Hill Drive\, Farmers’ Market Park. In case of rain\, concerts are moved to the RH Fire Department\, 61 Glen Wild Rd. Bring a blanket or a chair. Concerts are FREE.
URL:https://rockhillny.org/event/rock-hill-summer-concert-series-third-degree/
LOCATION:Farmers Market Park\, 223 Rock Hill Drive\, Rock Hill\, 12775\, United States
CATEGORIES:Concert Series
ATTACH;FMTTYPE=image/png:https://rockhillny.org/wp-content/uploads/Third-Degree-Ad.png
END:VEVENT
BEGIN:VEVENT
DTSTART;TZID=America/New_York:20180725T183000
DTEND;TZID=America/New_York:20180725T203000
DTSTAMP:20260423T163459
CREATED:20180504T025852Z
LAST-MODIFIED:20180504T025917Z
UID:3282-1532543400-1532550600@rockhillny.org
SUMMARY:Rock Hill Summer Concert Series: Cathy Paty + Friends
DESCRIPTION:Rock Hill Summer Concert Series Week 4: Cathy Paty + Friends\nJoin Cathy Paty and her musical friends as they entertain you with their eclectic mix of tunes ranging from country to rock. FREE Live Music every Wednesday in July + August. \nConcerts located at 223 Rock Hill Drive\, Farmers’ Market Park. In case of rain\, concerts are moved to the RH Fire Department\, 61 Glen Wild Rd. Bring a blanket or a chair.
URL:https://rockhillny.org/event/rock-hill-summer-concert-series-cathy-paty-friends/
LOCATION:Farmers Market Park\, 223 Rock Hill Drive\, Rock Hill\, 12775\, United States
CATEGORIES:Concert Series
ATTACH;FMTTYPE=image/png:https://rockhillny.org/wp-content/uploads/Cathy-Paty-Ad.png
END:VEVENT
BEGIN:VEVENT
DTSTART;TZID=America/New_York:20180718T183000
DTEND;TZID=America/New_York:20180718T203000
DTSTAMP:20260423T163459
CREATED:20180504T025837Z
LAST-MODIFIED:20180504T025837Z
UID:3280-1531938600-1531945800@rockhillny.org
SUMMARY:Rock Hill Summer Concert Series: The Other Band
DESCRIPTION:Rock Hill Summer Concert Series Week 3: The Other Band\nThey are all about classic rock and getting the audience to move and shake to their varied set list.\nFREE Live Music every Wednesday in July + August \nConcerts are FREE and located at 223 Rock Hill Drive\, Farmers’ Market Park. In case of rain\, concerts are moved to the RH Fire Department\, 61 Glen Wild Rd. Bring a blanket or a chair.
URL:https://rockhillny.org/event/rock-hill-summer-concert-series-the-other-band/
LOCATION:Farmers Market Park\, 223 Rock Hill Drive\, Rock Hill\, 12775\, United States
CATEGORIES:Concert Series
ATTACH;FMTTYPE=image/png:https://rockhillny.org/wp-content/uploads/The-Other-Band-Ad-2.png
END:VEVENT
BEGIN:VEVENT
DTSTART;TZID=America/New_York:20180711T183000
DTEND;TZID=America/New_York:20180711T203000
DTSTAMP:20260423T163459
CREATED:20180504T025815Z
LAST-MODIFIED:20180504T025815Z
UID:3278-1531333800-1531341000@rockhillny.org
SUMMARY:Rock Hill Summer Concert Series: Little Sparrow
DESCRIPTION:RH Summer Concert Series Week 2: Little Sparrow\nOne of the area’s premier Americana/Roots bands. Watch as they transform classic rock\, bluegrass and folk tunes in their own style. \nConcerts are FREE and located at 223 Rock Hill Drive\, Farmers’ Market Park. In case of rain\, concerts are moved to the RH Fire Department\, 61 Glen Wild Rd. Bring a blanket or a chair.
URL:https://rockhillny.org/event/rock-hill-summer-concert-series-little-sparrow/
LOCATION:Farmers Market Park\, 223 Rock Hill Drive\, Rock Hill\, 12775\, United States
CATEGORIES:Concert Series
ATTACH;FMTTYPE=image/png:https://rockhillny.org/wp-content/uploads/Little-Sparrow-Ad.png
END:VEVENT
BEGIN:VEVENT
DTSTART;TZID=America/New_York:20180704T183000
DTEND;TZID=America/New_York:20180704T203000
DTSTAMP:20260423T163459
CREATED:20180504T030819Z
LAST-MODIFIED:20180504T030819Z
UID:3304-1530729000-1530736200@rockhillny.org
SUMMARY:Rock Hill Summer Concert Series: Joanna Gass + the Search and Rescue Orchestra
DESCRIPTION:Join us for the opening night of the Rock Hill Summer Concert Series!!! The Search + Rescue Orchestra is led by the virtuosic vocals of Joanna M Gass. She and the Search and Rescue Orchestra play everything from Jazz standards to Disco\, putting their own stamp on each tune. All concerts are FREE! \nConcerts are located at 223 Rock Hill Drive\, Farmers’ Market Park. In case of rain\, concerts are moved to the RH Fire Department\, 61 Glen Wild Rd. Bring a blanket or a chair.
URL:https://rockhillny.org/event/rock-hill-summer-concert-series-joanna-gass-the-search-and-rescue-orchestra/
LOCATION:Farmers Market Park\, 223 Rock Hill Drive\, Rock Hill\, 12775\, United States
CATEGORIES:Concert Series
ATTACH;FMTTYPE=image/png:https://rockhillny.org/wp-content/uploads/Screen-Shot-2017-06-21-at-11.51.56-PM-1.png
END:VEVENT
BEGIN:VEVENT
DTSTART;TZID=America/New_York:20170830T183000
DTEND;TZID=America/New_York:20170830T203000
DTSTAMP:20260423T163459
CREATED:20170520T135316Z
LAST-MODIFIED:20170703T171131Z
UID:3065-1504117800-1504125000@rockhillny.org
SUMMARY:Summer Concert Series: Slam Allen
DESCRIPTION:Join us for live music under the stars every Wednesday evening during July and August. Bring a blanket and a picnic basket and join us for LIVE music at the Farmers’ Market park.  \nOur traditional closer. Slam is a premier performer. If you’ve seen him\, you know what he brings. If you haven’t\, you are really missing out on something special. Don’t miss this one. Sponsored by Rieber Realty and Rosie Decker & Friends.  \nConcerts located at 223 Rock Hill Drive\, Farmers’ Market ParkIn case of rain\, concerts are moved to the RH Fire Department\, 61 Glen Wild Rd.
URL:https://rockhillny.org/event/summer-concert-series-slam-allen/
LOCATION:Farmers Market Park\, 223 Rock Hill Drive\, Rock Hill\, 12775\, United States
CATEGORIES:Community Event,Concert Series,FREE
ATTACH;FMTTYPE=image/jpeg:https://rockhillny.org/wp-content/uploads/banner-design-1-6.jpg
END:VEVENT
BEGIN:VEVENT
DTSTART;TZID=America/New_York:20170823T183000
DTEND;TZID=America/New_York:20170823T203000
DTSTAMP:20260423T163459
CREATED:20170520T135054Z
LAST-MODIFIED:20170703T171726Z
UID:3061-1503513000-1503520200@rockhillny.org
SUMMARY:Summer Concert Series: Breakneck Annie
DESCRIPTION:Join us for live music under the stars every Wednesday evening during July and August. Bring a blanket and a picnic basket and join us for LIVE music at the Farmers’ Market park! Breakneck Annie\, Not your average bluegrass band. Traditional instruments\, but done with a lot of upbeat tempos. You will not be disappointed. Sponsored by Silk City Machinery and DM Landscaping.  \nConcerts located at 223 Rock Hill Drive\, Farmers’ Market Park. In case of rain\, concerts are moved to the RH Fire Department\, 61 Glen Wild Rd.
URL:https://rockhillny.org/event/summer-concert-series-breakneck-annie/
LOCATION:Farmers Market Park\, 223 Rock Hill Drive\, Rock Hill\, 12775\, United States
CATEGORIES:Community Event,Concert Series,FREE
ATTACH;FMTTYPE=image/jpeg:https://rockhillny.org/wp-content/uploads/banner-design-1-5.jpg
END:VEVENT
BEGIN:VEVENT
DTSTART;TZID=America/New_York:20170816T183000
DTEND;TZID=America/New_York:20170816T203000
DTSTAMP:20260423T163459
CREATED:20170520T135035Z
LAST-MODIFIED:20170703T171805Z
UID:3057-1502908200-1502915400@rockhillny.org
SUMMARY:Summer Concert Series: Jazzmosis
DESCRIPTION:Join us for live music under the stars every Wednesday evening during July and August. Bring a blanket and a picnic basket and join us for LIVE music at the Farmers’ Market park! Jazzmosis\, Jazz fusion\, but don’t let the jazz part scare you. Musicianship that doesn’t require you to be a musician to enjoy it. Sponsored by Dutch’s and Iroquois Springs.  \nConcerts located at 223 Rock Hill Drive\, Farmers’ Market Park. In case of rain\, concerts are moved to the RH Fire Department\, 61 Glen Wild Rd.
URL:https://rockhillny.org/event/summer-concert-series-jazzmosis/
LOCATION:Farmers Market Park\, 223 Rock Hill Drive\, Rock Hill\, 12775\, United States
CATEGORIES:Community Event,Concert Series,FREE
ATTACH;FMTTYPE=image/jpeg:https://rockhillny.org/wp-content/uploads/banner-design-1-4.jpg
END:VEVENT
BEGIN:VEVENT
DTSTART;TZID=America/New_York:20170809T183000
DTEND;TZID=America/New_York:20170809T200000
DTSTAMP:20260423T163459
CREATED:20170520T135012Z
LAST-MODIFIED:20170703T171841Z
UID:3053-1502303400-1502308800@rockhillny.org
SUMMARY:Summer Concert Series: Evolver
DESCRIPTION:Join us for live music under the stars every Wednesday evening during July and August. Bring a blanket and a picnic basket and join us for LIVE music at the Farmers’ Market park! Evolver\,  A classic rock power trio. These guys will have you moving and dancing all night. Sponsored by the Alan Schantz Agency and Councilman Scott Mace.  \nConcerts located at 223 Rock Hill Drive\, Farmers’ Market Park. In case of rain\, concerts are moved to the RH Fire Department\, 61 Glen Wild Rd.
URL:https://rockhillny.org/event/summer-concert-series-evolver/
LOCATION:Farmers Market Park\, 223 Rock Hill Drive\, Rock Hill\, 12775\, United States
CATEGORIES:Community Event,Concert Series,FREE
ATTACH;FMTTYPE=image/jpeg:https://rockhillny.org/wp-content/uploads/banner-design-1-3.jpg
END:VEVENT
BEGIN:VEVENT
DTSTART;TZID=America/New_York:20170802T183000
DTEND;TZID=America/New_York:20170802T203000
DTSTAMP:20260423T163459
CREATED:20170520T134455Z
LAST-MODIFIED:20170703T171917Z
UID:3049-1501698600-1501705800@rockhillny.org
SUMMARY:Summer Concert Series: The Papa J. & Mo' Soul Band
DESCRIPTION:Join us for live music under the stars every Wednesday evening during July and August. Bring a blanket and a picnic basket and join us for LIVE music at the Farmers’ Market park! Jason Rosen aka Papa Soul is an area favorite. As the name of the band implies\, there will be a lot of 60s and 70s Soul tunes and soulful arrangements of other styles as well. Sponsored by Pizza the Rock and Joe Henle\, Keller Williams Realtor. \nConcerts located at 223 Rock Hill Drive\, Farmers’ Market Park. In case of rain\, concerts are moved to the RH Fire Department\, 61 Glen Wild Rd.
URL:https://rockhillny.org/event/summer-concert-series-the-papa-j-mo-soul-band/
LOCATION:Farmers Market Park\, 223 Rock Hill Drive\, Rock Hill\, 12775\, United States
CATEGORIES:Community Event,Concert Series,FREE
ATTACH;FMTTYPE=image/jpeg:https://rockhillny.org/wp-content/uploads/banner-design-1-2.jpg
END:VEVENT
BEGIN:VEVENT
DTSTART;TZID=America/New_York:20170726T183000
DTEND;TZID=America/New_York:20170726T203000
DTSTAMP:20260423T163459
CREATED:20170520T151903Z
LAST-MODIFIED:20170703T171952Z
UID:3071-1501093800-1501101000@rockhillny.org
SUMMARY:Summer Concert Series: Mickey Barnett
DESCRIPTION:Join us for live music under the stars every Wednesday evening during July and August. Bring a blanket and a picnic basket and join us for LIVE music at the Farmers’ Market park! Mickey and the band have been playing music in the area for 40+ years. They draw on all that musical experience for a show that appeals to all ages. Sponsored by Danny’s and the Rock Hill Pharmacy.  \nConcerts located at 223 Rock Hill Drive\, Farmers’ Market Park. In case of rain\, concerts are moved to the RH Fire Department\, 61 Glen Wild Rd.
URL:https://rockhillny.org/event/summer-concert-series-mickey-barnett/
LOCATION:Farmers Market Park\, 223 Rock Hill Drive\, Rock Hill\, 12775\, United States
CATEGORIES:Community Event,Concert Series,FREE
ATTACH;FMTTYPE=image/jpeg:https://rockhillny.org/wp-content/uploads/banner-design-1-7.jpg
END:VEVENT
BEGIN:VEVENT
DTSTART;TZID=America/New_York:20170719T183000
DTEND;TZID=America/New_York:20170719T203000
DTSTAMP:20260423T163459
CREATED:20170520T134010Z
LAST-MODIFIED:20170703T172048Z
UID:3047-1500489000-1500496200@rockhillny.org
SUMMARY:Summer Concert Series: Lot 14 Band
DESCRIPTION:Join us for live music under the stars every Wednesday evening during July and August. Bring a blanket and a picnic basket and join us for LIVE music at the Farmers’ Market park! Ric Skinner and Lot 14 play a nice cross section of covers and originals. Laid back\, but know how to rock at the right moments. Sponsored by the Emerald Green Homeowners Association and the Rock Hill Ambulance Corps.  \nConcerts located at 223 Rock Hill Drive\, Farmers’ Market Park. In case of rain\, concerts are moved to the RH Fire Department\, 61 Glen Wild Rd.
URL:https://rockhillny.org/event/summer-concert-series-lot-14-band/
LOCATION:Farmers Market Park\, 223 Rock Hill Drive\, Rock Hill\, 12775\, United States
CATEGORIES:Community Event,Concert Series,FREE
ATTACH;FMTTYPE=image/jpeg:https://rockhillny.org/wp-content/uploads/banner-design-1-1.jpg
END:VEVENT
BEGIN:VEVENT
DTSTART;TZID=America/New_York:20170712T183000
DTEND;TZID=America/New_York:20170712T203000
DTSTAMP:20260423T163459
CREATED:20170520T133818Z
LAST-MODIFIED:20170703T172131Z
UID:3045-1499884200-1499891400@rockhillny.org
SUMMARY:Summer Concert Series: Luster Kings
DESCRIPTION:Join us for live music under the stars every Wednesday evening during July and August. Bring a blanket and a picnic basket and join us for LIVE music at the Farmers’ Market park! Luster Kings\,  Rockabilly at its finest. We are excited about the return of Mike “Chops” LaConte and his stand up bass playing to the area. Sponsored by CCS Woodworking and the Irwin Siegel Agency.  \nConcerts located at 223 Rock Hill Drive\, Farmers’ Market Park. In case of rain\, concerts are moved to the RH Fire Department\, 61 Glen Wild Rd. \nWeek 2 sponsored by CCS Woodworks and Iroquois Springs.
URL:https://rockhillny.org/event/summer-concert-series-luster-kings/
LOCATION:Farmers Market Park\, 223 Rock Hill Drive\, Rock Hill\, 12775\, United States
CATEGORIES:Community Event,Concert Series,FREE
ATTACH;FMTTYPE=image/jpeg:https://rockhillny.org/wp-content/uploads/RH-Concert-Series-logo.jpg
END:VEVENT
BEGIN:VEVENT
DTSTART;TZID=America/New_York:20160831T183000
DTEND;TZID=America/New_York:20160831T203000
DTSTAMP:20260423T163459
CREATED:20160505T021004Z
LAST-MODIFIED:20160712T022357Z
UID:2486-1472668200-1472675400@rockhillny.org
SUMMARY:Week 9: Summer Concert Series w/ Slam Allen
DESCRIPTION:Join us for live music under the stars every Wednesday evening during July and August! Bring a blanket and a picnic basket and join us for LIVE music at the Farmers’ Market park! \nConcerts located at 223 Rock Hill Drive\, Farmers’ Market Park. In case of rain\, concerts are moved to the RH Fire Department\, 61 Glen Wild Rd. \nWeek 9 is sponsored by Sonn T. Inc\, Construction & Landscaping and the Alan Schantz Agency.
URL:https://rockhillny.org/event/week-9-summer-concert-series-w-slam-allen/
LOCATION:Farmers Market Park\, 223 Rock Hill Drive\, Rock Hill\, 12775\, United States
CATEGORIES:Concert Series
ATTACH;FMTTYPE=image/png:https://rockhillny.org/wp-content/uploads/concert-series-image.png
END:VEVENT
BEGIN:VEVENT
DTSTART;TZID=America/New_York:20160824T183000
DTEND;TZID=America/New_York:20160824T203000
DTSTAMP:20260423T163459
CREATED:20160505T020830Z
LAST-MODIFIED:20160712T022240Z
UID:2485-1472063400-1472070600@rockhillny.org
SUMMARY:Week 8: Summer Concert Series w/ NY Retro Rockers
DESCRIPTION:Join us for live music under the stars every Wednesday evening during July and August! Bring a blanket and a picnic basket and join us for LIVE music at the Farmers’ Market park! \nConcerts located at 223 Rock Hill Drive\, Farmers’ Market Park. In case of rain\, concerts are moved to the RH Fire Department\, 61 Glen Wild Rd. \nWeek 8 is sponsored by Welsch Grounds and Gardens and Atkins and Garone\, America’s Tax Experts.
URL:https://rockhillny.org/event/week-8-summer-concert-series-w-ny-retro-rockers/
LOCATION:Farmers Market Park\, 223 Rock Hill Drive\, Rock Hill\, 12775\, United States
CATEGORIES:Concert Series
ATTACH;FMTTYPE=image/png:https://rockhillny.org/wp-content/uploads/concert-series-image.png
END:VEVENT
BEGIN:VEVENT
DTSTART;TZID=America/New_York:20160817T183000
DTEND;TZID=America/New_York:20160817T203000
DTSTAMP:20260423T163459
CREATED:20160505T020651Z
LAST-MODIFIED:20160712T022121Z
UID:2484-1471458600-1471465800@rockhillny.org
SUMMARY:Week 7: Summer Concert Series w/ Runnin' W' Sizzorz
DESCRIPTION:Join us for live music under the stars every Wednesday evening during July and August! Bring a blanket and a picnic basket and join us for LIVE music at the Farmers’ Market park! \nConcerts located at 223 Rock Hill Drive\, Farmers’ Market Park. In case of rain\, concerts are moved to the RH Fire Department\, 61 Glen Wild Rd. \nWeek 7 is sponsored by “Friends of Rock Hill” and the Rock Hill Pharmacy
URL:https://rockhillny.org/event/week-7-summer-concert-series-w-runnin-w-sizzorz/
CATEGORIES:Concert Series
ATTACH;FMTTYPE=image/png:https://rockhillny.org/wp-content/uploads/concert-series-image.png
END:VEVENT
BEGIN:VEVENT
DTSTART;TZID=America/New_York:20160810T183000
DTEND;TZID=America/New_York:20160810T203000
DTSTAMP:20260423T163459
CREATED:20160505T020521Z
LAST-MODIFIED:20160712T021952Z
UID:2483-1470853800-1470861000@rockhillny.org
SUMMARY:Week 6: Summer Concert Series w/ The Sam Haiman Band
DESCRIPTION:Join us for live music under the stars every Wednesday evening during July and August! Bring a blanket and a picnic basket and join us for LIVE music at the Farmers’ Market park! \nConcerts located at 223 Rock Hill Drive\, Farmers’ Market Park. In case of rain\, concerts are moved to the RH Fire Department\, 61 Glen Wild Rd. \nWeek 6 is sponsored by the Irwin Siegel Agency and Eric J. Adler\, Attorney at Law.
URL:https://rockhillny.org/event/week-6-summer-concert-series-w-the-sam-haiman-band/
LOCATION:Farmers Market Park\, 223 Rock Hill Drive\, Rock Hill\, 12775\, United States
CATEGORIES:Concert Series
ATTACH;FMTTYPE=image/png:https://rockhillny.org/wp-content/uploads/concert-series-image.png
END:VEVENT
BEGIN:VEVENT
DTSTART;TZID=America/New_York:20160803T183000
DTEND;TZID=America/New_York:20160803T203000
DTSTAMP:20260423T163459
CREATED:20160505T015941Z
LAST-MODIFIED:20160712T015536Z
UID:2480-1470249000-1470256200@rockhillny.org
SUMMARY:Week 5: Summer Concert Series w/ The Barn Cats
DESCRIPTION:Join us for live music under the stars every Wednesday evening during July and August! Bring a blanket and a picnic basket and join us for LIVE music at the Farmers’ Market park! \nConcerts located at 223 Rock Hill Drive\, Farmers’ Market Park. In case of rain\, concerts are moved to the RH Fire Department\, 61 Glen Wild Rd. \nWeek 5 sponsored by Iroquois Springs and Rieber Realty.
URL:https://rockhillny.org/event/week-5-summer-concert-series-w-the-barn-cats/
LOCATION:Farmers Market Park\, 223 Rock Hill Drive\, Rock Hill\, 12775\, United States
CATEGORIES:Concert Series
ATTACH;FMTTYPE=image/png:https://rockhillny.org/wp-content/uploads/concert-series-image.png
END:VEVENT
BEGIN:VEVENT
DTSTART;TZID=America/New_York:20160727T183000
DTEND;TZID=America/New_York:20160727T203000
DTSTAMP:20260423T163459
CREATED:20160505T015454Z
LAST-MODIFIED:20160712T021839Z
UID:2479-1469644200-1469651400@rockhillny.org
SUMMARY:Week 4: Summer Concert Series w/ Somerville
DESCRIPTION:Join us for live music under the stars every Wednesday evening during July and August! Bring a blanket and a picnic basket and join us for LIVE music at the Farmers’ Market park! \nConcerts located at 223 Rock Hill Drive\, Farmers’ Market Park. In case of rain\, concerts are moved to the RH Fire Department\, 61 Glen Wild Rd. \nWeek 4 is sponsored by the Rock Hill Volunteer Ambulance Corps. and Iroquois Springs.
URL:https://rockhillny.org/event/week-4-summer-concert-series-w-somerville/
LOCATION:Farmers Market Park\, 223 Rock Hill Drive\, Rock Hill\, 12775\, United States
CATEGORIES:Concert Series
ATTACH;FMTTYPE=image/png:https://rockhillny.org/wp-content/uploads/concert-series-image.png
END:VEVENT
BEGIN:VEVENT
DTSTART;TZID=America/New_York:20160720T183000
DTEND;TZID=America/New_York:20160720T203000
DTSTAMP:20260423T163459
CREATED:20160505T015257Z
LAST-MODIFIED:20160712T021725Z
UID:2478-1469039400-1469046600@rockhillny.org
SUMMARY:Week 3: Summer Concert Series w/ The AM Band
DESCRIPTION:Join us for live music under the stars every Wednesday evening during July and August! Bring a blanket and a picnic basket and join us for LIVE music at the Farmers’ Market park! \nConcerts located at 223 Rock Hill Drive\, Farmers’ Market Park. In case of rain\, concerts are moved to the RH Fire Department\, 61 Glen Wild Rd. \nWeek 3 is sponsored by Danny’s Restaurant and VEO Energy Systems.
URL:https://rockhillny.org/event/week-3-summer-concert-series-w-the-am-band/
LOCATION:Farmers Market Park\, 223 Rock Hill Drive\, Rock Hill\, 12775\, United States
CATEGORIES:Concert Series
ATTACH;FMTTYPE=image/png:https://rockhillny.org/wp-content/uploads/concert-series-image.png
END:VEVENT
BEGIN:VEVENT
DTSTART;TZID=America/New_York:20160713T063000
DTEND;TZID=America/New_York:20160713T203000
DTSTAMP:20260423T163459
CREATED:20160505T014905Z
LAST-MODIFIED:20160712T021609Z
UID:2476-1468391400-1468441800@rockhillny.org
SUMMARY:Week 2: Summer Concert Series w/ The Robert Kopec Group
DESCRIPTION:Join us for live music under the stars every Wednesday evening during July and August! Bring a blanket and a picnic basket and join us for LIVE music at the Farmers’ Market park! \nConcerts located at 223 Rock Hill Drive\, Farmers’ Market Park. In case of rain\, concerts are moved to the RH Fire Department\, 61 Glen Wild Rd. \nWeek 2 is sponsored by the Rock Hill Trading Post and Joe Henle\, Realtor at Keller Williams Realty.
URL:https://rockhillny.org/event/week-2-summer-concert-series-w-the-robert-kopec-group/
LOCATION:Farmers Market Park\, 223 Rock Hill Drive\, Rock Hill\, 12775\, United States
CATEGORIES:Concert Series
ATTACH;FMTTYPE=image/png:https://rockhillny.org/wp-content/uploads/concert-series-image.png
END:VEVENT
BEGIN:VEVENT
DTSTART;TZID=America/New_York:20160706T183000
DTEND;TZID=America/New_York:20160706T203000
DTSTAMP:20260423T163459
CREATED:20160325T005225Z
LAST-MODIFIED:20160505T020332Z
UID:1935-1467829800-1467837000@rockhillny.org
SUMMARY:Week 1: Summer Concert Series w/ The Rock Hill Ramblers!
DESCRIPTION:Join us for live music under the stars every Wednesday evening during July and August! Bring a blanket and a picnic basket and join us for LIVE music at the Farmers’ Market park! \nConcerts located at 223 Rock Hill Drive\, Farmers’ Market Park. In case of rain\, concerts are moved to the RH Fire Department\, 61 Glen Wild Rd.
URL:https://rockhillny.org/event/penny-social/
LOCATION:Farmers Market Park\, 223 Rock Hill Drive\, Rock Hill\, 12775\, United States
CATEGORIES:Concert Series
ATTACH;FMTTYPE=image/png:https://rockhillny.org/wp-content/uploads/concert-series-image.png
END:VEVENT
END:VCALENDAR